BEGIN:VCALENDAR
VERSION:2.0
PRODID:-//Drupal iCal API//EN
X-WR-CALNAME:infoclio.ch - The Swiss portal for the historical sciences: Ca
 lendar
X-WR-TIMEZONE:Europe/Zurich
BEGIN:VTIMEZONE
TZID:Europe/Zurich
X-LIC-LOCATION:Europe/Zurich
BEGIN:DAYLIGHT
TZNAME:CEST
TZOFFSETFROM:+0100
TZOFFSETTO:+0200
DTSTART:20260329T010000
END:DAYLIGHT
BEGIN:STANDARD
TZNAME:CET
TZOFFSETFROM:+0200
TZOFFSETTO:+0100
DTSTART:20251026T010000
END:STANDARD
END:VTIMEZONE
BEGIN:VEVENT
UID:8b7e3e70-0e55-41a8-8506-cec1db71e297
DTSTART;TZID=Europe/Zurich:20260511T181500
SEQUENCE:0
TRANSP:TRANSPARENT
DTEND;TZID=Europe/Zurich:20260511T194500
URL:https://www.infoclio.ch/en/der-aggressor-selbst-und-fremdwahrnehmung-ei
 nes-akteurs-zwischen-den-nationen
LOCATION:Universität Zürich\, Raum KOL-F-117\,Zürich
SUMMARY:Der Aggressor. Selbst- und Fremdwahrnehmung eines Akteurs zwischen 
 den\nNationen
CLASS:PUBLIC
DTSTAMP:20260422T094122Z
END:VEVENT
END:VCALENDAR