BEGIN:VCALENDAR
VERSION:2.0
PRODID:-//Drupal iCal API//EN
X-WR-CALNAME:infoclio.ch - The Swiss portal for the historical sciences: Ca
 lendar
X-WR-TIMEZONE:Europe/Zurich
BEGIN:VTIMEZONE
TZID:Europe/Zurich
X-LIC-LOCATION:Europe/Zurich
BEGIN:DAYLIGHT
TZNAME:CEST
TZOFFSETFROM:+0100
TZOFFSETTO:+0200
DTSTART:20260329T010000
END:DAYLIGHT
BEGIN:STANDARD
TZNAME:CET
TZOFFSETFROM:+0200
TZOFFSETTO:+0100
DTSTART:20251026T010000
END:STANDARD
END:VTIMEZONE
BEGIN:VEVENT
UID:42c444ec-02d3-4b05-af27-66f20fda5a22
DTSTART;TZID=Europe/Zurich:20260430T091500
SEQUENCE:0
TRANSP:TRANSPARENT
DTEND;TZID=Europe/Zurich:20260430T174500
URL:https://www.infoclio.ch/en/cultures-vigilance-towards-history-private-w
 atchfulness
LOCATION:Online\, via Zoom — RSVP required\,
SUMMARY:Cultures of Vigilance. Towards a History of private Watchfulness
CLASS:PUBLIC
DTSTAMP:20260422T083809Z
END:VEVENT
END:VCALENDAR