BEGIN:VCALENDAR
VERSION:2.0
PRODID:-//Drupal iCal API//EN
X-WR-CALNAME:infoclio.ch - The Swiss portal for the historical sciences: Ca
 lendar
X-WR-TIMEZONE:Europe/Zurich
BEGIN:VTIMEZONE
TZID:Europe/Zurich
X-LIC-LOCATION:Europe/Zurich
BEGIN:DAYLIGHT
TZNAME:CEST
TZOFFSETFROM:+0100
TZOFFSETTO:+0200
DTSTART:20260329T010000
END:DAYLIGHT
BEGIN:STANDARD
TZNAME:CET
TZOFFSETFROM:+0200
TZOFFSETTO:+0100
DTSTART:20251026T010000
END:STANDARD
END:VTIMEZONE
BEGIN:VEVENT
UID:49e2af20-e991-4b9f-b553-a0c5112411e3
DTSTART;TZID=Europe/Zurich:20260428T160000
SEQUENCE:0
TRANSP:TRANSPARENT
DTEND;TZID=Europe/Zurich:20260428T180000
URL:https://www.infoclio.ch/en/shame-and-invisibility-coloniality-reading-b
 lack-writing-poland-visions-solidarities-intersections
LOCATION:Univesität Zürich\,Zürich
SUMMARY:Shame and Invisibility in Coloniality: Reading Black Writing from\n
 Poland for Visions of Solidarities at the Intersections of the\n“posts-
 ”
CLASS:PUBLIC
DTSTAMP:20260422T084919Z
END:VEVENT
END:VCALENDAR