BEGIN:VCALENDAR
VERSION:2.0
PRODID:-//Drupal iCal API//EN
X-WR-CALNAME:infoclio.ch - The Swiss portal for the historical sciences: Ca
 lendar
X-WR-TIMEZONE:Europe/Zurich
BEGIN:VTIMEZONE
TZID:Europe/Zurich
X-LIC-LOCATION:Europe/Zurich
BEGIN:DAYLIGHT
TZNAME:CEST
TZOFFSETFROM:+0100
TZOFFSETTO:+0200
DTSTART:20260329T010000
END:DAYLIGHT
BEGIN:STANDARD
TZNAME:CET
TZOFFSETFROM:+0200
TZOFFSETTO:+0100
DTSTART:20251026T010000
END:STANDARD
END:VTIMEZONE
BEGIN:VEVENT
UID:6da11f6e-a52f-4962-952e-d7690e20456a
DTSTART;TZID=Europe/Zurich:20260422T081600
SEQUENCE:0
TRANSP:TRANSPARENT
DTEND;TZID=Europe/Zurich:20260422T081600
URL:https://www.infoclio.ch/en/les-troubles-des-sevenes-une-guerre-sans-nom
 -sous-louis-xiv-le-fratricide-apr%C3%A8s-les-guerres-de
LOCATION:Uni Philosophes\,Genève
SUMMARY:Les Troubles des Sevenes\, une guerre sans nom sous Louis XIV. Le\n
 fratricide après les guerres de Religion ou la guerre civile et\nreligieu
 se au Grand Siècle
CLASS:PUBLIC
DTSTAMP:20260422T130112Z
END:VEVENT
END:VCALENDAR