BEGIN:VCALENDAR
VERSION:2.0
PRODID:-//Drupal iCal API//EN
X-WR-CALNAME:infoclio.ch - The Swiss portal for the historical sciences: Ca
 lendar
X-WR-TIMEZONE:Europe/Zurich
BEGIN:VTIMEZONE
TZID:Europe/Zurich
X-LIC-LOCATION:Europe/Zurich
BEGIN:DAYLIGHT
TZNAME:CEST
TZOFFSETFROM:+0100
TZOFFSETTO:+0200
DTSTART:20260329T010000
END:DAYLIGHT
BEGIN:STANDARD
TZNAME:CET
TZOFFSETFROM:+0200
TZOFFSETTO:+0100
DTSTART:20251026T010000
END:STANDARD
END:VTIMEZONE
BEGIN:VEVENT
UID:f7dc78f0-ef34-4ea2-97cf-b01fe9663d5c
DTSTART;TZID=Europe/Zurich:20260512T190000
SEQUENCE:0
TRANSP:TRANSPARENT
DTEND;TZID=Europe/Zurich:20260512T190000
URL:https://www.infoclio.ch/en/die-schweiz-und-ihre-400-j%C3%A4hrige-neutra
 lit%C3%A4t-ein-land-auf-der-suche-nach-seiner-rolle
LOCATION:Rathaus Appenzell\,Appenzell
SUMMARY:Die Schweiz und ihre 400-jährige Neutralität. Ein Land auf der Su
 che\nnach seiner Rolle
CLASS:PUBLIC
DTSTAMP:20260422T010224Z
END:VEVENT
END:VCALENDAR