BEGIN:VCALENDAR
VERSION:2.0
PRODID:-//Drupal iCal API//EN
X-WR-CALNAME:infoclio.ch - The Swiss portal for the historical sciences: Ca
 lendar
X-WR-TIMEZONE:Europe/Zurich
BEGIN:VTIMEZONE
TZID:Europe/Zurich
X-LIC-LOCATION:Europe/Zurich
BEGIN:DAYLIGHT
TZNAME:CEST
TZOFFSETFROM:+0100
TZOFFSETTO:+0200
DTSTART:20260329T010000
END:DAYLIGHT
BEGIN:STANDARD
TZNAME:CET
TZOFFSETFROM:+0200
TZOFFSETTO:+0100
DTSTART:20251026T010000
END:STANDARD
BEGIN:STANDARD
TZNAME:CET
TZOFFSETFROM:+0200
TZOFFSETTO:+0100
DTSTART:20261025T010000
END:STANDARD
END:VTIMEZONE
BEGIN:VEVENT
UID:f5cdaf5c-0b7a-4781-b87e-f33ad53dc1c8
DTSTART;TZID=Europe/Zurich:20260421T000000
SEQUENCE:0
TRANSP:TRANSPARENT
DTEND;TZID=Europe/Zurich:20261108T235959
URL:https://www.infoclio.ch/en/frauen-%E2%80%93-weibliche-lebenswelten-im-m
 ittelalter
LOCATION:Barocksaal der Stiftsbibliothek St.Gallen\,St. Gallen
SUMMARY:Frauen – Weibliche Lebenswelten im Mittelalter
CLASS:PUBLIC
DTSTAMP:20260421T133757Z
END:VEVENT
END:VCALENDAR