BEGIN:VCALENDAR
VERSION:2.0
PRODID:-//Drupal iCal API//EN
X-WR-CALNAME:infoclio.ch - The Swiss portal for the historical sciences: Ca
 lendar
X-WR-TIMEZONE:Europe/Zurich
BEGIN:VTIMEZONE
TZID:Europe/Zurich
X-LIC-LOCATION:Europe/Zurich
BEGIN:DAYLIGHT
TZNAME:CEST
TZOFFSETFROM:+0100
TZOFFSETTO:+0200
DTSTART:20260329T010000
END:DAYLIGHT
BEGIN:STANDARD
TZNAME:CET
TZOFFSETFROM:+0200
TZOFFSETTO:+0100
DTSTART:20251026T010000
END:STANDARD
END:VTIMEZONE
BEGIN:VEVENT
UID:7ceef3d4-0291-487d-873f-3f93a09f567b
DTSTART;TZID=Europe/Zurich:20260506T181500
SEQUENCE:0
TRANSP:TRANSPARENT
DTEND;TZID=Europe/Zurich:20260509T123000
URL:https://www.infoclio.ch/en/wie-die-eisenbahn-die-schweiz-kam
LOCATION:Volkshochshule beider Base\,Basel
SUMMARY:Wie die Eisenbahn in die Schweiz kam
CLASS:PUBLIC
DTSTAMP:20260422T085214Z
END:VEVENT
END:VCALENDAR