BEGIN:VCALENDAR
VERSION:2.0
PRODID:-//Drupal iCal API//EN
X-WR-CALNAME:infoclio.ch - The Swiss portal for the historical sciences: Ca
 lendar
X-WR-TIMEZONE:Europe/Zurich
BEGIN:VTIMEZONE
TZID:Europe/Zurich
X-LIC-LOCATION:Europe/Zurich
BEGIN:DAYLIGHT
TZNAME:CEST
TZOFFSETFROM:+0100
TZOFFSETTO:+0200
DTSTART:20260329T010000
END:DAYLIGHT
BEGIN:STANDARD
TZNAME:CET
TZOFFSETFROM:+0200
TZOFFSETTO:+0100
DTSTART:20251026T010000
END:STANDARD
END:VTIMEZONE
BEGIN:VEVENT
UID:c968b0f3-75c0-4c4b-9fdb-84102475063d
DTSTART;TZID=Europe/Zurich:20260422T131500
SEQUENCE:0
TRANSP:TRANSPARENT
DTEND;TZID=Europe/Zurich:20260424T174500
URL:https://www.infoclio.ch/en/materiality-and-confinements-medieval-and-ea
 rly-modern-eras-objects-actors-and-experiences
LOCATION:Université de Lausanne\, Amphimax 414\,
SUMMARY:Materiality and Confinements in the Medieval and Early Modern Eras 
 :\nObjects\, Actors\, and Experiences / Matérialité et enfermements au\n
 Moyen Âge et à l’époque moderne : objets\, acteurs et expériences\n
CLASS:PUBLIC
DTSTAMP:20260421T105115Z
END:VEVENT
END:VCALENDAR