BEGIN:VCALENDAR
VERSION:2.0
PRODID:-//Drupal iCal API//EN
X-WR-CALNAME:infoclio.ch - The Swiss portal for the historical sciences: Ca
 lendar
X-WR-TIMEZONE:Europe/Zurich
BEGIN:VTIMEZONE
TZID:Europe/Zurich
X-LIC-LOCATION:Europe/Zurich
BEGIN:DAYLIGHT
TZNAME:CEST
TZOFFSETFROM:+0100
TZOFFSETTO:+0200
DTSTART:20250330T010000
END:DAYLIGHT
BEGIN:STANDARD
TZNAME:CET
TZOFFSETFROM:+0200
TZOFFSETTO:+0100
DTSTART:20251026T010000
END:STANDARD
END:VTIMEZONE
BEGIN:VEVENT
UID:b409dad8-7222-4315-85ae-01741bb47bd7
DTSTART;TZID=Europe/Zurich:20260308T110000
SEQUENCE:0
TRANSP:TRANSPARENT
DTEND;TZID=Europe/Zurich:20260308T110000
URL:https://www.infoclio.ch/en/presentazione-libro-%E2%80%93-ossola-guerra-
 la-resistenza-al-confine-meridionale-svizzero-1943%E2%80%931945
LOCATION:Festivallibro Casa Rossa\,Muralto
SUMMARY:Presentazione libro – Ossola in guerra. La Resistenza al confine\
 nmeridionale svizzero 1943–1945
CLASS:PUBLIC
DTSTAMP:20260421T100340Z
END:VEVENT
END:VCALENDAR