BEGIN:VCALENDAR
VERSION:2.0
PRODID:-//Drupal iCal API//EN
X-WR-CALNAME:infoclio.ch - The Swiss portal for the historical sciences: Ca
 lendar
X-WR-TIMEZONE:Europe/Zurich
BEGIN:VTIMEZONE
TZID:Europe/Zurich
X-LIC-LOCATION:Europe/Zurich
BEGIN:DAYLIGHT
TZNAME:CEST
TZOFFSETFROM:+0100
TZOFFSETTO:+0200
DTSTART:20250330T010000
END:DAYLIGHT
BEGIN:STANDARD
TZNAME:CET
TZOFFSETFROM:+0200
TZOFFSETTO:+0100
DTSTART:20251026T010000
END:STANDARD
END:VTIMEZONE
BEGIN:VEVENT
UID:8552173d-fc90-45dc-aac2-abcbc074ab60
DTSTART;TZID=Europe/Zurich:20260215T000000
SEQUENCE:0
TRANSP:TRANSPARENT
DTEND;TZID=Europe/Zurich:20260215T235959
URL:https://www.infoclio.ch/en/cfp-d-ch-workshop-%C2%ABumwelt-und-ressource
 n%C2%BB
LOCATION:\,
SUMMARY:CfP: D-A-CH-Workshop «Umwelt und Ressourcen»
CLASS:PUBLIC
DTSTAMP:20260422T113215Z
END:VEVENT
END:VCALENDAR