BEGIN:VCALENDAR
VERSION:2.0
PRODID:-//Drupal iCal API//EN
X-WR-CALNAME:infoclio.ch - The Swiss portal for the historical sciences: Ca
 lendar
X-WR-TIMEZONE:Europe/Zurich
BEGIN:VTIMEZONE
TZID:Europe/Zurich
X-LIC-LOCATION:Europe/Zurich
BEGIN:DAYLIGHT
TZNAME:CEST
TZOFFSETFROM:+0100
TZOFFSETTO:+0200
DTSTART:20250330T010000
END:DAYLIGHT
BEGIN:STANDARD
TZNAME:CET
TZOFFSETFROM:+0200
TZOFFSETTO:+0100
DTSTART:20241027T010000
END:STANDARD
END:VTIMEZONE
BEGIN:VEVENT
UID:092f5ea3-f297-484c-84c1-7f203cac02b5
DTSTART;TZID=Europe/Zurich:20250612T133000
SEQUENCE:0
TRANSP:TRANSPARENT
DTEND;TZID=Europe/Zurich:20250613T153000
URL:https://www.infoclio.ch/en/lawyers-and-capitalism-history-lawyers-key-a
 ctors-development-global-capitalism
LOCATION:\,
SUMMARY:Lawyers and capitalism. The History of Lawyers as Key Actors in the
 \nDevelopment of Global Capitalism
CLASS:PUBLIC
DTSTAMP:20260424T161827Z
END:VEVENT
END:VCALENDAR