BEGIN:VCALENDAR
VERSION:2.0
PRODID:-//Drupal iCal API//EN
X-WR-CALNAME:infoclio.ch - The Swiss portal for the historical sciences: Ca
 lendar
X-WR-TIMEZONE:Europe/Zurich
BEGIN:VTIMEZONE
TZID:Europe/Zurich
X-LIC-LOCATION:Europe/Zurich
BEGIN:DAYLIGHT
TZNAME:CEST
TZOFFSETFROM:+0100
TZOFFSETTO:+0200
DTSTART:20240331T010000
END:DAYLIGHT
BEGIN:STANDARD
TZNAME:CET
TZOFFSETFROM:+0200
TZOFFSETTO:+0100
DTSTART:20231029T010000
END:STANDARD
END:VTIMEZONE
BEGIN:VEVENT
UID:3e61bab9-508c-45ce-84d3-bc74d2c412e7
DTSTART;TZID=Europe/Zurich:20240923T133000
SEQUENCE:0
TRANSP:TRANSPARENT
DTEND;TZID=Europe/Zurich:20240923T164500
URL:https://www.infoclio.ch/en/history-teaching-digital-and-connected-data-
 age
LOCATION:Université de Fribourg et en ligne\,Fribourg
SUMMARY:History teaching in the digital and connected data age
CLASS:PUBLIC
DTSTAMP:20260421T071024Z
END:VEVENT
END:VCALENDAR