BEGIN:VCALENDAR
VERSION:2.0
PRODID:-//Drupal iCal API//EN
X-WR-CALNAME:infoclio.ch - The Swiss portal for the historical sciences: Ca
 lendar
X-WR-TIMEZONE:Europe/Zurich
BEGIN:VTIMEZONE
TZID:Europe/Zurich
X-LIC-LOCATION:Europe/Zurich
BEGIN:DAYLIGHT
TZNAME:CEST
TZOFFSETFROM:+0100
TZOFFSETTO:+0200
DTSTART:20240331T010000
END:DAYLIGHT
BEGIN:STANDARD
TZNAME:CET
TZOFFSETFROM:+0200
TZOFFSETTO:+0100
DTSTART:20231029T010000
END:STANDARD
END:VTIMEZONE
BEGIN:VEVENT
UID:c78c95fc-50ca-4f39-a347-37766bd5fc9f
DTSTART;TZID=Europe/Zurich:20240926T123000
SEQUENCE:0
TRANSP:TRANSPARENT
DTEND;TZID=Europe/Zurich:20240927T163000
URL:https://www.infoclio.ch/en/debt-and-taxes-history-innovation
LOCATION:Geneva Graduate Institute\,\,Geneva
SUMMARY:Debt and Taxes. An History of Innovation
CLASS:PUBLIC
DTSTAMP:20260421T083138Z
END:VEVENT
END:VCALENDAR