BEGIN:VCALENDAR
VERSION:2.0
PRODID:-//Drupal iCal API//EN
X-WR-CALNAME:infoclio.ch - The Swiss portal for the historical sciences: Ca
 lendar
X-WR-TIMEZONE:Europe/Zurich
BEGIN:VTIMEZONE
TZID:Europe/Zurich
X-LIC-LOCATION:Europe/Zurich
BEGIN:DAYLIGHT
TZNAME:CEST
TZOFFSETFROM:+0100
TZOFFSETTO:+0200
DTSTART:20240331T010000
END:DAYLIGHT
BEGIN:STANDARD
TZNAME:CET
TZOFFSETFROM:+0200
TZOFFSETTO:+0100
DTSTART:20231029T010000
END:STANDARD
END:VTIMEZONE
BEGIN:VEVENT
UID:f3d98fee-1830-47b6-b0f4-df4251f2f19c
DTSTART;VALUE=DATE:20241001
SEQUENCE:0
TRANSP:TRANSPARENT
DTEND;VALUE=DATE:20241002
URL:https://www.infoclio.ch/fr/cfp-disparition-mort-et-obsolescence-des-tec
 hniques-xviiie-xxe-si%C3%A8cles
LOCATION:\,
SUMMARY:CfP: Disparition\, mort et obsolescence des techniques (XVIIIe-XXe\
 nsiècles)
CLASS:PUBLIC
X-MICROSOFT-CDO-ALLDAYEVENT:TRUE
DTSTAMP:20260421T071024Z
END:VEVENT
END:VCALENDAR