BEGIN:VCALENDAR
VERSION:2.0
PRODID:-//Drupal iCal API//EN
X-WR-CALNAME:infoclio.ch - The Swiss portal for the historical sciences: Ca
 lendar
X-WR-TIMEZONE:Europe/Zurich
BEGIN:VTIMEZONE
TZID:Europe/Zurich
X-LIC-LOCATION:Europe/Zurich
BEGIN:DAYLIGHT
TZNAME:CEST
TZOFFSETFROM:+0100
TZOFFSETTO:+0200
DTSTART:20210328T010000
END:DAYLIGHT
BEGIN:STANDARD
TZNAME:CET
TZOFFSETFROM:+0200
TZOFFSETTO:+0100
DTSTART:20201025T010000
END:STANDARD
END:VTIMEZONE
BEGIN:VEVENT
UID:8d2f0edb-c768-4665-a3d0-824000251ce8
DTSTART;TZID=Europe/Zurich:20210414T080030
SEQUENCE:0
TRANSP:TRANSPARENT
DTEND;TZID=Europe/Zurich:20210416T200030
URL:https://www.infoclio.ch/en/archives-audiovisuelles-de-la-litt%C3%A9ratu
 re
LOCATION:en ligne\,
SUMMARY:Archives audiovisuelles de la littérature
CLASS:PUBLIC
DTSTAMP:20260420T133219Z
END:VEVENT
END:VCALENDAR