BEGIN:VCALENDAR
VERSION:2.0
PRODID:-//Drupal iCal API//EN
X-WR-CALNAME:infoclio.ch - The Swiss portal for the historical sciences: Ca
 lendar
X-WR-TIMEZONE:Europe/Zurich
BEGIN:VTIMEZONE
TZID:Europe/Zurich
X-LIC-LOCATION:Europe/Zurich
BEGIN:DAYLIGHT
TZNAME:CEST
TZOFFSETFROM:+0100
TZOFFSETTO:+0200
DTSTART:20200329T010000
END:DAYLIGHT
BEGIN:STANDARD
TZNAME:CET
TZOFFSETFROM:+0200
TZOFFSETTO:+0100
DTSTART:20191027T010000
END:STANDARD
END:VTIMEZONE
BEGIN:VEVENT
UID:32a8c444-2ce5-4607-8d4e-903d89604ddb
DTSTART;TZID=Europe/Zurich:20200610T200050
SEQUENCE:0
TRANSP:TRANSPARENT
DTEND;TZID=Europe/Zurich:20200610T200050
URL:https://www.infoclio.ch/en/sempach-1886-%E2%80%93-strahlkraft-einer-jah
 rhundertfeier
LOCATION:Fach- und Wirtschafts-Mittelschulzentrum\,Luzern
SUMMARY:Sempach 1886 – Strahlkraft einer Jahrhundertfeier
CLASS:PUBLIC
DTSTAMP:20260421T110450Z
END:VEVENT
END:VCALENDAR