BEGIN:VCALENDAR
VERSION:2.0
PRODID:-//Drupal iCal API//EN
X-WR-CALNAME:infoclio.ch - The Swiss portal for the historical sciences: Ca
 lendar
X-WR-TIMEZONE:Europe/Zurich
BEGIN:VTIMEZONE
TZID:Europe/Zurich
X-LIC-LOCATION:Europe/Zurich
BEGIN:DAYLIGHT
TZNAME:CEST
TZOFFSETFROM:+0100
TZOFFSETTO:+0200
DTSTART:20190331T010000
END:DAYLIGHT
BEGIN:STANDARD
TZNAME:CET
TZOFFSETFROM:+0200
TZOFFSETTO:+0100
DTSTART:20181028T010000
END:STANDARD
END:VTIMEZONE
BEGIN:VEVENT
UID:30ec5921-2bb0-43f4-abcc-d297dc32cf1d
DTSTART;TZID=Europe/Zurich:20190516T143025
SEQUENCE:0
TRANSP:TRANSPARENT
DTEND;TZID=Europe/Zurich:20190516T143025
URL:https://www.infoclio.ch/en/history-economic-thought-problem-global-hist
 ory
LOCATION:Institute for European Global Studies\,Basel
SUMMARY:The History of Economic Thought as a Problem of Global History
CLASS:PUBLIC
DTSTAMP:20260420T214802Z
END:VEVENT
END:VCALENDAR