BEGIN:VCALENDAR
VERSION:2.0
PRODID:-//Drupal iCal API//EN
X-WR-CALNAME:infoclio.ch - The Swiss portal for the historical sciences: Ca
 lendar
X-WR-TIMEZONE:Europe/Zurich
BEGIN:VTIMEZONE
TZID:Europe/Zurich
X-LIC-LOCATION:Europe/Zurich
BEGIN:DAYLIGHT
TZNAME:CEST
TZOFFSETFROM:+0100
TZOFFSETTO:+0200
DTSTART:20180325T010000
END:DAYLIGHT
BEGIN:STANDARD
TZNAME:CET
TZOFFSETFROM:+0200
TZOFFSETTO:+0100
DTSTART:20181028T010000
END:STANDARD
END:VTIMEZONE
BEGIN:VEVENT
UID:f8e5bc40-0b01-4d95-bae3-3bc6777c5749
DTSTART;TZID=Europe/Zurich:20190301T010000
SEQUENCE:0
TRANSP:TRANSPARENT
DTEND;TZID=Europe/Zurich:20190301T010000
URL:https://www.infoclio.ch/en/sant%C3%A9-de-genre-et-masculinit%C3%A9s-per
 spectives-historiques-post-coloniales
LOCATION:Bâtiment Colladon\, 2 rue Jean-Daniel Colladon\,Genève
SUMMARY:Santé de genre et masculinités : perspectives historiques\n(post)
 -coloniales
CLASS:PUBLIC
DTSTAMP:20260424T161231Z
END:VEVENT
END:VCALENDAR