BEGIN:VCALENDAR
VERSION:2.0
PRODID:-//Drupal iCal API//EN
X-WR-CALNAME:infoclio.ch - The Swiss portal for the historical sciences: Ca
 lendar
X-WR-TIMEZONE:Europe/Zurich
BEGIN:VTIMEZONE
TZID:Europe/Zurich
X-LIC-LOCATION:Europe/Zurich
BEGIN:DAYLIGHT
TZNAME:CEST
TZOFFSETFROM:+0100
TZOFFSETTO:+0200
DTSTART:20180325T010000
END:DAYLIGHT
BEGIN:STANDARD
TZNAME:CET
TZOFFSETFROM:+0200
TZOFFSETTO:+0100
DTSTART:20171029T010000
END:STANDARD
END:VTIMEZONE
BEGIN:VEVENT
UID:1e96ab60-56e2-441a-a2fb-7f7da9b8568c
DTSTART;TZID=Europe/Zurich:20181011T140045
SEQUENCE:0
TRANSP:TRANSPARENT
DTEND;TZID=Europe/Zurich:20181011T183045
URL:https://www.infoclio.ch/en/du-clich%C3%A9-sur-plaque-de-verre-%C3%A0-wi
 kimedia-commons-les-archives-cantonales-vaudoises-f%C3%AAtent-les-120
LOCATION:Archives cantonales vaudoises\, en collaboration avec Wikimedia CH
 \,Chavannes-près-Renens
SUMMARY:Du cliché sur plaque de verre à Wikimedia Commons : les Archives\
 ncantonales vaudoises fêtent les 120 ans de la loi sur la conservation\nd
 es monuments 
CLASS:PUBLIC
DTSTAMP:20260423T211808Z
END:VEVENT
END:VCALENDAR