BEGIN:VCALENDAR
VERSION:2.0
PRODID:-//Drupal iCal API//EN
X-WR-CALNAME:infoclio.ch - The Swiss portal for the historical sciences: Ca
 lendar
X-WR-TIMEZONE:Europe/Zurich
BEGIN:VTIMEZONE
TZID:Europe/Zurich
X-LIC-LOCATION:Europe/Zurich
BEGIN:DAYLIGHT
TZNAME:CEST
TZOFFSETFROM:+0100
TZOFFSETTO:+0200
DTSTART:20180325T010000
END:DAYLIGHT
BEGIN:STANDARD
TZNAME:CET
TZOFFSETFROM:+0200
TZOFFSETTO:+0100
DTSTART:20171029T010000
END:STANDARD
END:VTIMEZONE
BEGIN:VEVENT
UID:aac67e7d-0c53-463c-8064-5dd3de48e434
DTSTART;TZID=Europe/Zurich:20180630T020000
SEQUENCE:0
TRANSP:TRANSPARENT
DTEND;TZID=Europe/Zurich:20180630T020000
URL:https://www.infoclio.ch/en/appel-%C3%A0-participation-festival-histoire
 -et-cit%C3%A9-histoires-d%E2%80%99eaux
LOCATION:Festival Histoire et Cité\,Genève
SUMMARY:Appel à participation: Festival Histoire et Cité - Histoires\nd
 ’eaux
CLASS:PUBLIC
DTSTAMP:20260424T150856Z
END:VEVENT
END:VCALENDAR