BEGIN:VCALENDAR
VERSION:2.0
PRODID:-//Drupal iCal API//EN
X-WR-CALNAME:infoclio.ch - The Swiss portal for the historical sciences: Ca
 lendar
X-WR-TIMEZONE:Europe/Zurich
BEGIN:VTIMEZONE
TZID:Europe/Zurich
X-LIC-LOCATION:Europe/Zurich
BEGIN:DAYLIGHT
TZNAME:CEST
TZOFFSETFROM:+0100
TZOFFSETTO:+0200
DTSTART:20180325T010000
END:DAYLIGHT
BEGIN:STANDARD
TZNAME:CET
TZOFFSETFROM:+0200
TZOFFSETTO:+0100
DTSTART:20171029T010000
END:STANDARD
END:VTIMEZONE
BEGIN:VEVENT
UID:d4ecb75e-9469-4c42-9b11-76cc5b221691
DTSTART;TZID=Europe/Zurich:20180608T083020
SEQUENCE:0
TRANSP:TRANSPARENT
DTEND;TZID=Europe/Zurich:20180609T160020
URL:https://www.infoclio.ch/en/p%C3%A2turages-et-for%C3%AAts-collectifs-%E2
 %80%93-%C3%A9comomie-participation-durabilit%C3%A9-kollektive-weiden-und-w
 %C3%A4lder-%E2%80%93
LOCATION:Kulturkloster Altdorf\,Altdorf
SUMMARY:Pâturages et forêts collectifs – écomomie\, participation\,\nd
 urabilité / Kollektive Weiden und Wälder – Ökonomie\,\nPartizipation\
 , Nachhaltigkeit
CLASS:PUBLIC
DTSTAMP:20260422T110833Z
END:VEVENT
END:VCALENDAR