BEGIN:VCALENDAR
VERSION:2.0
PRODID:-//Drupal iCal API//EN
X-WR-CALNAME:infoclio.ch - The Swiss portal for the historical sciences: Ca
 lendar
X-WR-TIMEZONE:Europe/Zurich
BEGIN:VTIMEZONE
TZID:Europe/Zurich
X-LIC-LOCATION:Europe/Zurich
BEGIN:DAYLIGHT
TZNAME:CEST
TZOFFSETFROM:+0100
TZOFFSETTO:+0200
DTSTART:20160327T010000
END:DAYLIGHT
BEGIN:STANDARD
TZNAME:CET
TZOFFSETFROM:+0200
TZOFFSETTO:+0100
DTSTART:20161030T010000
END:STANDARD
END:VTIMEZONE
BEGIN:VEVENT
UID:0533d4b2-41f8-46bb-83c1-8e93c5d06ef5
DTSTART;TZID=Europe/Zurich:20170323T010000
SEQUENCE:0
TRANSP:TRANSPARENT
DTEND;TZID=Europe/Zurich:20170325T010000
URL:https://www.infoclio.ch/en/cash-flow-im-sp%C3%A4ten-mittelalter-kirchli
 che-und-kommunale-bauvorhaben-zwischen-konflikt-und-konsens
LOCATION:Universität Bern\,Bern
SUMMARY:Cash-Flow im Späten Mittelalter. Kirchliche und kommunale Bauvorha
 ben\nzwischen Konflikt und Konsens
CLASS:PUBLIC
DTSTAMP:20260424T210400Z
END:VEVENT
END:VCALENDAR