BEGIN:VCALENDAR
VERSION:2.0
PRODID:-//Drupal iCal API//EN
X-WR-CALNAME:infoclio.ch - The Swiss portal for the historical sciences: Ca
 lendar
X-WR-TIMEZONE:Europe/Zurich
BEGIN:VTIMEZONE
TZID:Europe/Zurich
X-LIC-LOCATION:Europe/Zurich
BEGIN:DAYLIGHT
TZNAME:CEST
TZOFFSETFROM:+0100
TZOFFSETTO:+0200
DTSTART:20150329T010000
END:DAYLIGHT
BEGIN:DAYLIGHT
TZNAME:CEST
TZOFFSETFROM:+0100
TZOFFSETTO:+0200
DTSTART:20160327T010000
END:DAYLIGHT
BEGIN:STANDARD
TZNAME:CET
TZOFFSETFROM:+0200
TZOFFSETTO:+0100
DTSTART:20151025T010000
END:STANDARD
END:VTIMEZONE
BEGIN:VEVENT
UID:a8508356-d65a-4bfd-a45d-5003b5c2538c
DTSTART;TZID=Europe/Zurich:20160227T010000
SEQUENCE:0
TRANSP:TRANSPARENT
DTEND;TZID=Europe/Zurich:20160529T020000
URL:https://www.infoclio.ch/en/habalukke-sch%C3%A4tze-einer-vergessenen-ziv
 ilisation
LOCATION:NMB Neues Museum Biel\,Biel
SUMMARY:HABALUKKE Schätze einer vergessenen Zivilisation
CLASS:PUBLIC
DTSTAMP:20260422T064340Z
END:VEVENT
END:VCALENDAR