BEGIN:VCALENDAR
VERSION:2.0
PRODID:-//Drupal iCal API//EN
X-WR-CALNAME:infoclio.ch - The Swiss portal for the historical sciences: Ca
 lendar
X-WR-TIMEZONE:Europe/Zurich
BEGIN:VTIMEZONE
TZID:Europe/Zurich
X-LIC-LOCATION:Europe/Zurich
BEGIN:DAYLIGHT
TZNAME:CEST
TZOFFSETFROM:+0100
TZOFFSETTO:+0200
DTSTART:20140330T010000
END:DAYLIGHT
BEGIN:STANDARD
TZNAME:CET
TZOFFSETFROM:+0200
TZOFFSETTO:+0100
DTSTART:20141026T010000
END:STANDARD
END:VTIMEZONE
BEGIN:VEVENT
UID:ca0d3fe2-9ecf-4e85-9910-a5f81c64ea18
DTSTART;TZID=Europe/Zurich:20141112T010000
SEQUENCE:0
TRANSP:TRANSPARENT
DTEND;TZID=Europe/Zurich:20141112T010000
URL:https://www.infoclio.ch/en/corps-en-guerre-une-reconfiguration-de-la-vi
 rilit%C3%A9-une-perspective-historique
LOCATION:Université de Lausanne\,Lausanne
SUMMARY:Corps en guerre: une reconfiguration de la virilité? Une perspecti
 ve\nhistorique
CLASS:PUBLIC
DTSTAMP:20260419T175321Z
END:VEVENT
END:VCALENDAR