BEGIN:VCALENDAR
VERSION:2.0
PRODID:-//Drupal iCal API//EN
X-WR-CALNAME:infoclio.ch - The Swiss portal for the historical sciences: Ca
 lendar
X-WR-TIMEZONE:Europe/Zurich
BEGIN:VTIMEZONE
TZID:Europe/Zurich
X-LIC-LOCATION:Europe/Zurich
BEGIN:DAYLIGHT
TZNAME:CEST
TZOFFSETFROM:+0100
TZOFFSETTO:+0200
DTSTART:20260329T010000
END:DAYLIGHT
BEGIN:STANDARD
TZNAME:CET
TZOFFSETFROM:+0200
TZOFFSETTO:+0100
DTSTART:20251026T010000
END:STANDARD
END:VTIMEZONE
BEGIN:VEVENT
UID:646e8e53-0795-47dc-bcba-7e41eff91d5d
DTSTART;TZID=Europe/Zurich:20260715T000000
SEQUENCE:0
TRANSP:TRANSPARENT
DTEND;TZID=Europe/Zurich:20260715T235959
URL:https://www.infoclio.ch/de/cfp-trans-geschichten-der-schweiz
LOCATION:\,
SUMMARY:CfP: Trans Geschichten der Schweiz
CLASS:PUBLIC
DTSTAMP:20260423T151154Z
END:VEVENT
END:VCALENDAR