BEGIN:VCALENDAR
VERSION:2.0
PRODID:-//Drupal iCal API//EN
X-WR-CALNAME:infoclio.ch - The Swiss portal for the historical sciences: Ca
 lendar
X-WR-TIMEZONE:Europe/Zurich
BEGIN:VTIMEZONE
TZID:Europe/Zurich
X-LIC-LOCATION:Europe/Zurich
BEGIN:DAYLIGHT
TZNAME:CEST
TZOFFSETFROM:+0100
TZOFFSETTO:+0200
DTSTART:20260329T010000
END:DAYLIGHT
BEGIN:STANDARD
TZNAME:CET
TZOFFSETFROM:+0200
TZOFFSETTO:+0100
DTSTART:20251026T010000
END:STANDARD
END:VTIMEZONE
BEGIN:VEVENT
UID:4fef44cf-f948-4031-871d-0ebd3a58ce48
DTSTART;TZID=Europe/Zurich:20260601T140000
SEQUENCE:0
TRANSP:TRANSPARENT
DTEND;TZID=Europe/Zurich:20260602T160000
URL:https://www.infoclio.ch/de/workshop-verdr%C3%A4ngte-opfer-eugenik-biopo
 litik-und-die-frage-des-unwerten-lebens
LOCATION:\,
SUMMARY:Workshop: Verdrängte Opfer: Eugenik\, Biopolitik und die Frage des
 \nunwerten Lebens
CLASS:PUBLIC
DTSTAMP:20260423T143245Z
END:VEVENT
END:VCALENDAR