BEGIN:VCALENDAR
VERSION:2.0
PRODID:-//Drupal iCal API//EN
X-WR-CALNAME:infoclio.ch - The Swiss portal for the historical sciences: Ca
 lendar
X-WR-TIMEZONE:Europe/Zurich
BEGIN:VTIMEZONE
TZID:Europe/Zurich
X-LIC-LOCATION:Europe/Zurich
BEGIN:DAYLIGHT
TZNAME:CEST
TZOFFSETFROM:+0100
TZOFFSETTO:+0200
DTSTART:20260329T010000
END:DAYLIGHT
BEGIN:STANDARD
TZNAME:CET
TZOFFSETFROM:+0200
TZOFFSETTO:+0100
DTSTART:20251026T010000
END:STANDARD
END:VTIMEZONE
BEGIN:VEVENT
UID:46e94e1b-a6b2-452c-a11d-19be1e5c6eb1
DTSTART;TZID=Europe/Zurich:20260615T000000
SEQUENCE:0
TRANSP:TRANSPARENT
DTEND;TZID=Europe/Zurich:20260615T235959
URL:https://www.infoclio.ch/de/cfp-traverse-32027-poisongift
LOCATION:\,
SUMMARY:CfP: traverse 3/2027 - Poison/Gift
CLASS:PUBLIC
DTSTAMP:20260423T070022Z
END:VEVENT
END:VCALENDAR