BEGIN:VCALENDAR
VERSION:2.0
PRODID:-//Drupal iCal API//EN
X-WR-CALNAME:infoclio.ch - The Swiss portal for the historical sciences: Ca
 lendar
X-WR-TIMEZONE:Europe/Zurich
BEGIN:VTIMEZONE
TZID:Europe/Zurich
X-LIC-LOCATION:Europe/Zurich
BEGIN:DAYLIGHT
TZNAME:CEST
TZOFFSETFROM:+0100
TZOFFSETTO:+0200
DTSTART:20260329T010000
END:DAYLIGHT
BEGIN:STANDARD
TZNAME:CET
TZOFFSETFROM:+0200
TZOFFSETTO:+0100
DTSTART:20251026T010000
END:STANDARD
END:VTIMEZONE
BEGIN:VEVENT
UID:a454f541-a175-4092-bd3e-04c6b6eee23a
DTSTART;TZID=Europe/Zurich:20260502T190000
SEQUENCE:0
TRANSP:TRANSPARENT
DTEND;TZID=Europe/Zurich:20260502T203000
URL:https://www.infoclio.ch/de/conf%C3%A9rence-historique-%C2%AB%C2%A0p%C3%
 A9tremand-de-cressier-un-notable-du-landeron-au-c%C5%93ur-des-guerres-de
LOCATION:Musée de l’Hôtel de Ville\,Le Landeron
SUMMARY:Conférence historique « Pétremand de Cressier\, un notable du\n
 Landeron au cœur des Guerres de Bourgogne »
CLASS:PUBLIC
DTSTAMP:20260420T150605Z
END:VEVENT
END:VCALENDAR