BEGIN:VCALENDAR
VERSION:2.0
PRODID:-//Drupal iCal API//EN
X-WR-CALNAME:infoclio.ch - The Swiss portal for the historical sciences: Ca
 lendar
X-WR-TIMEZONE:Europe/Zurich
BEGIN:VTIMEZONE
TZID:Europe/Zurich
X-LIC-LOCATION:Europe/Zurich
BEGIN:DAYLIGHT
TZNAME:CEST
TZOFFSETFROM:+0100
TZOFFSETTO:+0200
DTSTART:20250330T010000
END:DAYLIGHT
BEGIN:STANDARD
TZNAME:CET
TZOFFSETFROM:+0200
TZOFFSETTO:+0100
DTSTART:20241027T010000
END:STANDARD
END:VTIMEZONE
BEGIN:VEVENT
UID:df82ac7c-3e5e-4107-8dda-93f380dacb33
DTSTART;TZID=Europe/Zurich:20250611T181500
SEQUENCE:0
TRANSP:TRANSPARENT
DTEND;TZID=Europe/Zurich:20250611T193000
URL:https://www.infoclio.ch/de/buchpr%C3%A4sentation-die-schweiz-und-china-
 %E2%80%93-von-den-opiumkriegen-bis-zur-neuen-seidenstrasse
LOCATION:Archiv für Zeitgeschichte\,Zürich
SUMMARY:Buchpräsentation: Die Schweiz und China – Von den Opiumkriegen b
 is\nzur neuen Seidenstrasse
CLASS:PUBLIC
DTSTAMP:20260424T163901Z
END:VEVENT
END:VCALENDAR