BEGIN:VCALENDAR
VERSION:2.0
PRODID:-//Drupal iCal API//EN
X-WR-CALNAME:infoclio.ch - The Swiss portal for the historical sciences: Ca
 lendar
X-WR-TIMEZONE:Europe/Zurich
BEGIN:VTIMEZONE
TZID:Europe/Zurich
X-LIC-LOCATION:Europe/Zurich
BEGIN:DAYLIGHT
TZNAME:CEST
TZOFFSETFROM:+0100
TZOFFSETTO:+0200
DTSTART:20240331T010000
END:DAYLIGHT
BEGIN:STANDARD
TZNAME:CET
TZOFFSETFROM:+0200
TZOFFSETTO:+0100
DTSTART:20231029T010000
END:STANDARD
END:VTIMEZONE
BEGIN:VEVENT
UID:af33da70-e612-4e28-89a9-e85ca4075856
DTSTART;TZID=Europe/Zurich:20241017T171500
SEQUENCE:0
TRANSP:TRANSPARENT
DTEND;TZID=Europe/Zurich:20241017T184500
URL:https://www.infoclio.ch/de/das-erste-ersatzorgan-die-k%C3%BCnstliche-ni
 ere-und-die-ausweitung-des-medizinisch-m%C3%B6glichen-im
LOCATION:Medizinsammlung Inselspital Bern\,Bern
SUMMARY:Das erste Ersatzorgan. Die künstliche Niere und die Ausweitung des
 \nmedizinisch Möglichen im Schweizer Gesundheitswesen
CLASS:PUBLIC
DTSTAMP:20260425T030503Z
END:VEVENT
END:VCALENDAR