BEGIN:VCALENDAR
VERSION:2.0
PRODID:-//Drupal iCal API//EN
X-WR-CALNAME:infoclio.ch - The Swiss portal for the historical sciences: Ca
 lendar
X-WR-TIMEZONE:Europe/Zurich
BEGIN:VTIMEZONE
TZID:Europe/Zurich
X-LIC-LOCATION:Europe/Zurich
BEGIN:DAYLIGHT
TZNAME:CEST
TZOFFSETFROM:+0100
TZOFFSETTO:+0200
DTSTART:20230326T010000
END:DAYLIGHT
BEGIN:STANDARD
TZNAME:CET
TZOFFSETFROM:+0200
TZOFFSETTO:+0100
DTSTART:20231029T010000
END:STANDARD
END:VTIMEZONE
BEGIN:VEVENT
UID:5bf1b84e-1be1-4659-85d8-6a862ba6a3bb
DTSTART;TZID=Europe/Zurich:20240117T183000
SEQUENCE:0
TRANSP:TRANSPARENT
DTEND;TZID=Europe/Zurich:20240117T200000
URL:https://www.infoclio.ch/de/digitalisierung-und-k%C3%BCnstliche-intellig
 enz-hat-das-humane-grenzen
LOCATION:Kornhausforum\,Bern
SUMMARY:Digitalisierung und Künstliche Intelligenz: Hat das Humane Grenzen
 ?
CLASS:PUBLIC
DTSTAMP:20260420T152622Z
END:VEVENT
END:VCALENDAR