BEGIN:VCALENDAR
VERSION:2.0
PRODID:-//Drupal iCal API//EN
X-WR-CALNAME:infoclio.ch - The Swiss portal for the historical sciences: Ca
 lendar
X-WR-TIMEZONE:Europe/Zurich
BEGIN:VTIMEZONE
TZID:Europe/Zurich
X-LIC-LOCATION:Europe/Zurich
BEGIN:DAYLIGHT
TZNAME:CEST
TZOFFSETFROM:+0100
TZOFFSETTO:+0200
DTSTART:20230326T010000
END:DAYLIGHT
BEGIN:STANDARD
TZNAME:CET
TZOFFSETFROM:+0200
TZOFFSETTO:+0100
DTSTART:20231029T010000
END:STANDARD
END:VTIMEZONE
BEGIN:VEVENT
UID:3a0bdd2c-cb44-4afc-8af2-ec1e9190d488
DTSTART;TZID=Europe/Zurich:20240311T000000
SEQUENCE:0
TRANSP:TRANSPARENT
DTEND;TZID=Europe/Zurich:20240316T235900
URL:https://www.infoclio.ch/de/basler-geschichtstage-feuer-und-flamme
LOCATION:\,Basel
SUMMARY:Basler Geschichtstage: Feuer und Flamme
CLASS:PUBLIC
DTSTAMP:20260421T161554Z
END:VEVENT
END:VCALENDAR