BEGIN:VCALENDAR
VERSION:2.0
PRODID:-//Drupal iCal API//EN
X-WR-CALNAME:infoclio.ch - The Swiss portal for the historical sciences: Ca
 lendar
X-WR-TIMEZONE:Europe/Zurich
BEGIN:VTIMEZONE
TZID:Europe/Zurich
X-LIC-LOCATION:Europe/Zurich
BEGIN:DAYLIGHT
TZNAME:CEST
TZOFFSETFROM:+0100
TZOFFSETTO:+0200
DTSTART:20230326T010000
END:DAYLIGHT
BEGIN:STANDARD
TZNAME:CET
TZOFFSETFROM:+0200
TZOFFSETTO:+0100
DTSTART:20221030T010000
END:STANDARD
END:VTIMEZONE
BEGIN:VEVENT
UID:bed2b229-e944-4ecd-89e8-b22a5b8fbff8
DTSTART;TZID=Europe/Zurich:20231012T183000
SEQUENCE:0
TRANSP:TRANSPARENT
DTEND;TZID=Europe/Zurich:20231012T193000
URL:https://www.infoclio.ch/de/traductions-et-traducteurs-%C3%A0-la-cour-d%
 E2%80%99am%C3%A9d%C3%A9e-viii-de-savoie
LOCATION:Archives d’État de Genève\, Ancien Arsenal\,Genève
SUMMARY:Traductions et traducteurs à la cour d’Amédée VIII de Savoie
CLASS:PUBLIC
DTSTAMP:20260420T154841Z
END:VEVENT
END:VCALENDAR