BEGIN:VCALENDAR
VERSION:2.0
PRODID:-//Drupal iCal API//EN
X-WR-CALNAME:infoclio.ch - The Swiss portal for the historical sciences: Ca
 lendar
X-WR-TIMEZONE:Europe/Zurich
BEGIN:VTIMEZONE
TZID:Europe/Zurich
X-LIC-LOCATION:Europe/Zurich
BEGIN:DAYLIGHT
TZNAME:CEST
TZOFFSETFROM:+0100
TZOFFSETTO:+0200
DTSTART:20210328T010000
END:DAYLIGHT
BEGIN:STANDARD
TZNAME:CET
TZOFFSETFROM:+0200
TZOFFSETTO:+0100
DTSTART:20201025T010000
END:STANDARD
END:VTIMEZONE
BEGIN:VEVENT
UID:17ef950e-8fc5-4ddc-8aae-c5f713e8efa2
DTSTART;TZID=Europe/Zurich:20210619T101525
SEQUENCE:0
TRANSP:TRANSPARENT
DTEND;TZID=Europe/Zurich:20210619T101525
URL:https://www.infoclio.ch/de/die-aussichten-sind-vortrefflich%C2%BB-der-k
 anton-schwyz-und-die-schwyzer-reiseberichten-des-18-und-19
LOCATION:Bundesbriefmuseum\,Schwyz
SUMMARY:Die Aussichten sind vortrefflich!» Der Kanton Schwyz und die Schwy
 zer\nin Reiseberichten des 18. und 19. Jahrhunderts
CLASS:PUBLIC
DTSTAMP:20260420T023901Z
END:VEVENT
END:VCALENDAR