BEGIN:VCALENDAR
VERSION:2.0
PRODID:-//Drupal iCal API//EN
X-WR-CALNAME:infoclio.ch - The Swiss portal for the historical sciences: Ca
 lendar
X-WR-TIMEZONE:Europe/Zurich
BEGIN:VTIMEZONE
TZID:Europe/Zurich
X-LIC-LOCATION:Europe/Zurich
BEGIN:DAYLIGHT
TZNAME:CEST
TZOFFSETFROM:+0100
TZOFFSETTO:+0200
DTSTART:20190331T010000
END:DAYLIGHT
BEGIN:STANDARD
TZNAME:CET
TZOFFSETFROM:+0200
TZOFFSETTO:+0100
DTSTART:20181028T010000
END:STANDARD
END:VTIMEZONE
BEGIN:VEVENT
UID:dbca037a-5d2c-4bd5-b3d1-a4f8d22486fc
DTSTART;TZID=Europe/Zurich:20190430T020000
SEQUENCE:0
TRANSP:TRANSPARENT
DTEND;TZID=Europe/Zurich:20190430T020000
URL:https://www.infoclio.ch/de/cfp-challenging-sites-knowledge-medial-and-p
 luri-medial-configurations-and-transformations
LOCATION:Hotel Bad Muntelier\,Hauptstrasse 5
SUMMARY:CfP: Challenging the Sites of Knowledge: Medial and pluri-medial\nc
 onfigurations and transformations
CLASS:PUBLIC
DTSTAMP:20260422T163026Z
END:VEVENT
END:VCALENDAR