BEGIN:VCALENDAR
VERSION:2.0
PRODID:-//Drupal iCal API//EN
X-WR-CALNAME:infoclio.ch - The Swiss portal for the historical sciences: Ca
 lendar
X-WR-TIMEZONE:Europe/Zurich
BEGIN:VTIMEZONE
TZID:Europe/Zurich
X-LIC-LOCATION:Europe/Zurich
BEGIN:DAYLIGHT
TZNAME:CEST
TZOFFSETFROM:+0100
TZOFFSETTO:+0200
DTSTART:20180325T010000
END:DAYLIGHT
BEGIN:STANDARD
TZNAME:CET
TZOFFSETFROM:+0200
TZOFFSETTO:+0100
DTSTART:20181028T010000
END:STANDARD
END:VTIMEZONE
BEGIN:VEVENT
UID:7e2b7bf9-5cbf-491a-88cd-f26c106557d1
DTSTART;TZID=Europe/Zurich:20190318T183055
SEQUENCE:0
TRANSP:TRANSPARENT
DTEND;TZID=Europe/Zurich:20190318T183055
URL:https://www.infoclio.ch/de/eine-ganz-geheime-untergrundorganisation
LOCATION:Bahnhof Buffet HB Zürich\,Zürich
SUMMARY:Eine ganz geheime Untergrundorganisation
CLASS:PUBLIC
DTSTAMP:20260419T093113Z
END:VEVENT
END:VCALENDAR