BEGIN:VCALENDAR
VERSION:2.0
PRODID:-//Drupal iCal API//EN
X-WR-CALNAME:infoclio.ch - The Swiss portal for the historical sciences: Ca
 lendar
X-WR-TIMEZONE:Europe/Zurich
BEGIN:VTIMEZONE
TZID:Europe/Zurich
X-LIC-LOCATION:Europe/Zurich
BEGIN:DAYLIGHT
TZNAME:CEST
TZOFFSETFROM:+0100
TZOFFSETTO:+0200
DTSTART:20180325T010000
END:DAYLIGHT
BEGIN:STANDARD
TZNAME:CET
TZOFFSETFROM:+0200
TZOFFSETTO:+0100
DTSTART:20171029T010000
END:STANDARD
END:VTIMEZONE
BEGIN:VEVENT
UID:3512c861-52ba-4396-9ff0-89f7487cd8fe
DTSTART;TZID=Europe/Zurich:20180502T181555
SEQUENCE:0
TRANSP:TRANSPARENT
DTEND;TZID=Europe/Zurich:20180502T181555
URL:https://www.infoclio.ch/de/western-africa-eastern-europe-history-decolo
 nization-discourses-and-comparative-knowledge-polish
LOCATION:ETH Zürich\, RZ Gebäude\,Zürich
SUMMARY:Western Africa in Eastern Europe: On the History of Decolonization\
 nDiscourses and Comparative Knowledge in Polish Sociology
CLASS:PUBLIC
DTSTAMP:20260424T230106Z
END:VEVENT
END:VCALENDAR