BEGIN:VCALENDAR
VERSION:2.0
PRODID:-//Drupal iCal API//EN
X-WR-CALNAME:infoclio.ch - The Swiss portal for the historical sciences: Ca
 lendar
X-WR-TIMEZONE:Europe/Zurich
BEGIN:VTIMEZONE
TZID:Europe/Zurich
X-LIC-LOCATION:Europe/Zurich
BEGIN:DAYLIGHT
TZNAME:CEST
TZOFFSETFROM:+0100
TZOFFSETTO:+0200
DTSTART:20170326T010000
END:DAYLIGHT
BEGIN:STANDARD
TZNAME:CET
TZOFFSETFROM:+0200
TZOFFSETTO:+0100
DTSTART:20171029T010000
END:STANDARD
END:VTIMEZONE
BEGIN:VEVENT
UID:83e444d6-7047-4cc3-b6cf-cb56fe7acc44
DTSTART;TZID=Europe/Zurich:20180302T010000
SEQUENCE:0
TRANSP:TRANSPARENT
DTEND;TZID=Europe/Zurich:20180302T010000
URL:https://www.infoclio.ch/de/migration-and-socio-political-innovation
LOCATION:University of Freiburg\, Switzerland\, room MIS 3016\,Freiburg
SUMMARY:Migration and Socio-political Innovation
CLASS:PUBLIC
DTSTAMP:20260420T023754Z
END:VEVENT
END:VCALENDAR